BEGIN:VCALENDAR
VERSION:2.0
PRODID:-//Bergen Limburg Online//NONSGML kigkonsult.se iCalcreator 2.30.10/
 /
CALSCALE:GREGORIAN
METHOD:PUBLISH
UID:6316d811-f9ab-4e4c-83a1-9326de2db4f5
X-WR-CALNAME:iCagenda
X-WR-CALDESC:Event Management Extension for Joomla!
X-WR-RELCALID:3E26604A-50F4-4449-8B3E-E4F4932D05B5
X-WR-TIMEZONE:Europe/Amsterdam
BEGIN:VTIMEZONE
TZID:Europe/Amsterdam
BEGIN:STANDARD
TZNAME:CET
DTSTART:20251026T030000
TZOFFSETFROM:+0200
TZOFFSETTO:+0100
RDATE:20261025T030000
END:STANDARD
BEGIN:DAYLIGHT
TZNAME:CEST
DTSTART:20250330T020000
TZOFFSETFROM:+0100
TZOFFSETTO:+0200
RDATE:20260329T020000
RDATE:20270328T020000
END:DAYLIGHT
END:VTIMEZONE
BEGIN:VEVENT
UID:00b0c12a-f121-453b-a390-4238f1247e3b
DTSTAMP:20260425T103427Z
CATEGORIES:Nieuw Bergen
CLASS:PUBLIC
DESCRIPTION;ALTREP="CID:<FFFF__=0ABBE548DFE235B58f9e8a93d@coffeebean.com>":
 Iedereen is welkom\n&nbsp\;
DTSTART:20260326T090000Z
DTEND:20260326T120000Z
GEO:00;0
LOCATION:Edith Steinkapel
ORGANIZER:
SEQUENCE:1
SUMMARY:Vrije inloop
TRANSP:OPAQUE
URL:https://bergenlimburgonline.nl/activiteiten-dorpen/351-inloop/2026-03-2
 6-10-00
END:VEVENT
END:VCALENDAR
