BEGIN:VCALENDAR
VERSION:2.0
PRODID:-//Bergen Limburg Online//NONSGML kigkonsult.se iCalcreator 2.30.10/
 /
CALSCALE:GREGORIAN
METHOD:PUBLISH
UID:acb9c27b-c6f3-44ce-a62c-807146fddf5c
X-WR-CALNAME:iCagenda
X-WR-CALDESC:Event Management Extension for Joomla!
X-WR-RELCALID:3E26604A-50F4-4449-8B3E-E4F4932D05B5
X-WR-TIMEZONE:Europe/Amsterdam
BEGIN:VTIMEZONE
TZID:Europe/Amsterdam
BEGIN:STANDARD
TZNAME:CET
DTSTART:20241027T030000
TZOFFSETFROM:+0200
TZOFFSETTO:+0100
RDATE:20251026T030000
END:STANDARD
BEGIN:DAYLIGHT
TZNAME:CEST
DTSTART:20240331T020000
TZOFFSETFROM:+0100
TZOFFSETTO:+0200
RDATE:20250330T020000
RDATE:20260329T020000
END:DAYLIGHT
END:VTIMEZONE
BEGIN:VEVENT
UID:4295f5b6-bbb5-4e1a-8e00-7f51b85da489
DTSTAMP:20260426T035806Z
CATEGORIES:Nieuw Bergen
CLASS:PUBLIC
DESCRIPTION;ALTREP="CID:<FFFF__=0ABBE548DFE235B58f9e8a93d@coffeebean.com>":
 Gratis Helpdesk en individuele begeleiding13.30 - 15.30 uur
DTSTART:20250219T123000Z
DTEND:20250219T143000Z
GEO:00;0
LOCATION:OCB Edith Stein Kapel
ORGANIZER:
SEQUENCE:1
SUMMARY:Inloop Computerclub Bergen
TRANSP:OPAQUE
URL:https://bergenlimburgonline.nl/activiteiten-dorpen/computerclub-bergen/
 2025-02-19-13-30?iccaldate=2026-5-1
END:VEVENT
END:VCALENDAR
