BEGIN:VCALENDAR
VERSION:2.0
PRODID:-//Bergen Limburg Online//NONSGML kigkonsult.se iCalcreator 2.30.10/
 /
CALSCALE:GREGORIAN
METHOD:PUBLISH
UID:b8b7d07d-e1c1-48b1-be47-097ffc118fbe
X-WR-CALNAME:iCagenda
X-WR-CALDESC:Event Management Extension for Joomla!
X-WR-RELCALID:3E26604A-50F4-4449-8B3E-E4F4932D05B5
X-WR-TIMEZONE:Europe/Amsterdam
BEGIN:VTIMEZONE
TZID:Europe/Amsterdam
BEGIN:STANDARD
TZNAME:CET
DTSTART:20241027T030000
TZOFFSETFROM:+0200
TZOFFSETTO:+0100
RDATE:20251026T030000
RDATE:20261025T030000
END:STANDARD
BEGIN:DAYLIGHT
TZNAME:CEST
DTSTART:20250330T020000
TZOFFSETFROM:+0100
TZOFFSETTO:+0200
RDATE:20260329T020000
END:DAYLIGHT
END:VTIMEZONE
BEGIN:VEVENT
UID:aa4aad73-6271-4a7c-91e4-249cd631511b
DTSTAMP:20260419T125816Z
CATEGORIES:Well
CLASS:PUBLIC
DESCRIPTION;ALTREP="CID:<FFFF__=0ABBE548DFE235B58f9e8a93d@coffeebean.com>":
 Tijdens de Herfstvakantie\, Kerstvakantie en week van Carnaval zijn er gee
 n lessen. De zomervakantie van 2024 begint op 19 juli 2024
DTSTART:20250501T081500Z
DTEND:20250501T081500Z
GEO:00;0
LOCATION:MFC de Buun
ORGANIZER;CN=:info@sameninbeweging.com
SEQUENCE:1
SUMMARY:Gymnastiek Well 2
TRANSP:OPAQUE
URL:https://bergenlimburgonline.nl/activiteiten-dorpen/gymnastiek-well-3/20
 25-05-01-10-15
END:VEVENT
END:VCALENDAR
