BEGIN:VCALENDAR
VERSION:2.0
PRODID:-//Bergen Limburg Online//NONSGML kigkonsult.se iCalcreator 2.30.10/
 /
CALSCALE:GREGORIAN
METHOD:PUBLISH
UID:e45c1da5-dae9-471b-bbae-ea4f02bf6f9a
X-WR-CALNAME:iCagenda
X-WR-CALDESC:Event Management Extension for Joomla!
X-WR-RELCALID:3E26604A-50F4-4449-8B3E-E4F4932D05B5
X-WR-TIMEZONE:Europe/Amsterdam
BEGIN:VTIMEZONE
TZID:Europe/Amsterdam
BEGIN:STANDARD
TZNAME:CET
DTSTART:20251026T030000
TZOFFSETFROM:+0200
TZOFFSETTO:+0100
RDATE:20261025T030000
END:STANDARD
BEGIN:DAYLIGHT
TZNAME:CEST
DTSTART:20250330T020000
TZOFFSETFROM:+0100
TZOFFSETTO:+0200
RDATE:20260329T020000
RDATE:20270328T020000
END:DAYLIGHT
END:VTIMEZONE
BEGIN:VEVENT
UID:57abbe1b-67e3-47af-bbe1-841be856cc07
DTSTAMP:20260425T194556Z
CATEGORIES:Nieuw Bergen
CLASS:PUBLIC
DESCRIPTION;ALTREP="CID:<FFFF__=0ABBE548DFE235B58f9e8a93d@coffeebean.com>":
 Tijdens de Herfstvakantie\, Kerstvakantie en week van Carnaval zijn er gee
 n lessen. De zomervakantie van 2024 begint op 19 juli 2024
DTSTART:20260309T180000Z
DTEND:20260309T190000Z
GEO:00;0
LOCATION:Den Asseldonk
ORGANIZER;CN=:info@sameninbeweging.com
SEQUENCE:1
SUMMARY:Sport en Spel Bergen
TRANSP:OPAQUE
URL:https://bergenlimburgonline.nl/activiteiten-dorpen/sport-en-spel/2026-0
 3-09-19-00?iccaldate=2027-04-1
END:VEVENT
END:VCALENDAR
