BEGIN:VCALENDAR
VERSION:2.0
PRODID:-//Bergen Limburg Online//NONSGML kigkonsult.se iCalcreator 2.30.10/
 /
CALSCALE:GREGORIAN
METHOD:PUBLISH
UID:05ee1ce1-0dae-4405-b782-59ab5c03080f
X-WR-CALNAME:iCagenda
X-WR-CALDESC:Event Management Extension for Joomla!
X-WR-RELCALID:3E26604A-50F4-4449-8B3E-E4F4932D05B5
X-WR-TIMEZONE:Europe/Amsterdam
BEGIN:VTIMEZONE
TZID:Europe/Amsterdam
BEGIN:STANDARD
TZNAME:CET
DTSTART:20241027T030000
TZOFFSETFROM:+0200
TZOFFSETTO:+0100
RDATE:20251026T030000
RDATE:20261025T030000
END:STANDARD
BEGIN:DAYLIGHT
TZNAME:CEST
DTSTART:20250330T020000
TZOFFSETFROM:+0100
TZOFFSETTO:+0200
RDATE:20260329T020000
RDATE:20270328T020000
END:DAYLIGHT
END:VTIMEZONE
BEGIN:VEVENT
UID:d93f81a8-3d67-458d-928c-71bfb265ad13
DTSTAMP:20260426T020835Z
CATEGORIES:Wellerlooi
CLASS:PUBLIC
DESCRIPTION;ALTREP="CID:<FFFF__=0ABBE548DFE235B58f9e8a93d@coffeebean.com>":
 Digitale bescherming\nIn het digitale tijdperk is het beschermen van je pe
 rsoonlijke gegevens belangrijker dan ooit. Deze workshop over Digitale Bes
 cherming biedt je de kennis en vaardigheden om je online privacy te verbet
 eren en jezelf te beschermen tegen digitale bedreigingen. We behandelen de
  belangrijkste aspecten van digitale veiligheid\, met de nadruk op privacy
  maar ook de risico's van online oplichting komt aan bod.Deze workshop is 
 ontworpen voor gebruikers die al iets meer vertrouwd zijn met de basisfunc
 ties van hun mobiele telefoon en op zoek zijn naar mogelijkheden om hun di
 gitale veiligheid te versterken.\n&nbsp\;\nInschrijven via informatiepunt 
 biblioplus of via Ingrid B. van 't Luukske.
DTSTART:20251016T080000Z
DTEND:20251016T101500Z
GEO:00;0
LOCATION:'Luukske Wellerlooi
ORGANIZER;CN=:informatiepunt@biblioplus.nl
SEQUENCE:1
SUMMARY:Workshop Digitale Bescherming (Veilig Internetten)
TRANSP:OPAQUE
URL:https://bergenlimburgonline.nl/activiteiten-dorpen/workshop-digitale-be
 scherming-veilig-internetten-2
END:VEVENT
END:VCALENDAR
