BEGIN:VCALENDAR
VERSION:2.0
PRODID:-//Bergen Limburg Online//NONSGML kigkonsult.se iCalcreator 2.30.10/
 /
CALSCALE:GREGORIAN
METHOD:PUBLISH
UID:7566e852-8894-470a-b2c5-095060fb15b3
X-WR-CALNAME:iCagenda
X-WR-CALDESC:Event Management Extension for Joomla!
X-WR-RELCALID:3E26604A-50F4-4449-8B3E-E4F4932D05B5
X-WR-TIMEZONE:Europe/Amsterdam
BEGIN:VTIMEZONE
TZID:Europe/Amsterdam
BEGIN:STANDARD
TZNAME:CET
DTSTART:20251026T030000
TZOFFSETFROM:+0200
TZOFFSETTO:+0100
RDATE:20261025T030000
END:STANDARD
BEGIN:DAYLIGHT
TZNAME:CEST
DTSTART:20250330T020000
TZOFFSETFROM:+0100
TZOFFSETTO:+0200
RDATE:20260329T020000
RDATE:20270328T020000
END:DAYLIGHT
END:VTIMEZONE
BEGIN:VEVENT
UID:ab4c9ae7-807b-4f47-bf98-72735e33d699
DTSTAMP:20260419T190734Z
CATEGORIES:Gemeente Bergen en Regio
CLASS:PUBLIC
DESCRIPTION;ALTREP="CID:<FFFF__=0ABBE548DFE235B58f9e8a93d@coffeebean.com>":
 Op donderdag 11 december organiseren wij een bijzondere en informatieve av
 ond in de Brandweerkazerne op Industrieterrein De Flammert in Nieuw Bergen
 . Tijdens deze avond nemen wij bezoekers mee in de geschiedenis en ontwikk
 eling van het industrieterrein\, vanaf de beginjaren tot hoe het er vandaa
 g de dag uitziet.\nDe avond start om 19.30 uur met een kopje koffie of the
 e. Aansluitend volgt een gevarieerde diavoorstelling waarin verschillende 
 bedrijven\, sportverenigingen en andere interessante plekken op De Flammer
 t worden uitgelicht. Een unieke kans om meer te ontdekken over dit belangr
 ijke gebied binnen onze gemeente.\nHet evenement vindt plaats op een bijzo
 ndere locatie: de Brandweerkazerne op De Flammert. Parkeren kan op de park
 eerplaats van de voetbal- en tennisvereniging.\nIedereen is van harte welk
 om om deze leerzame en gezellige avond bij te wonen. Tot ziens op 11 decem
 ber!
DTSTART:20251211T183000Z
DTEND:20251211T203000Z
GEO:00;0
LOCATION:Branweerkazerne t.o Sportpark de Venhorst
ORGANIZER:
SEQUENCE:1
SUMMARY:Diapresentatie over Industrieterrein De Flammert in de Brandweerkaz
 erne
TRANSP:OPAQUE
URL:https://bergenlimburgonline.nl/evenementen/diapresentatie-over-industri
 eterrein-de-flammert-in-de-brandweerkazerne?iccaldate=2027-04-1
END:VEVENT
END:VCALENDAR
