BEGIN:VCALENDAR
VERSION:2.0
PRODID:-//Bergen Limburg Online//NONSGML kigkonsult.se iCalcreator 2.30.10/
 /
CALSCALE:GREGORIAN
METHOD:PUBLISH
UID:583969e4-92fe-44ea-9fca-15b187e06fa8
X-WR-CALNAME:iCagenda
X-WR-CALDESC:Event Management Extension for Joomla!
X-WR-RELCALID:3E26604A-50F4-4449-8B3E-E4F4932D05B5
X-WR-TIMEZONE:Europe/Amsterdam
BEGIN:VTIMEZONE
TZID:Europe/Amsterdam
BEGIN:STANDARD
TZNAME:CET
DTSTART:20221030T030000
TZOFFSETFROM:+0200
TZOFFSETTO:+0100
RDATE:20231029T030000
END:STANDARD
BEGIN:DAYLIGHT
TZNAME:CEST
DTSTART:20230326T020000
TZOFFSETFROM:+0100
TZOFFSETTO:+0200
RDATE:20240331T020000
END:DAYLIGHT
END:VTIMEZONE
BEGIN:VEVENT
UID:572bdb50-5660-4b3e-bd09-d2f1861c6cbc
DTSTAMP:20260423T212547Z
CATEGORIES:Gemeente Bergen en Regio
CLASS:PUBLIC
DESCRIPTION:
DTSTART:20230427T080000Z
DTEND:20230427T150000Z
GEO:00;0
LOCATION:Mosaiqueplein -Tussen Lidl en Toren -
ORGANIZER:
SEQUENCE:1
SUMMARY:KONINGSDAG NIEUW BERGEN
TRANSP:OPAQUE
URL:https://bergenlimburgonline.nl/evenementen/koningsdag-nieuw-bergen
END:VEVENT
END:VCALENDAR
